BEGIN:VCALENDAR
VERSION:2.0
PRODID:-//Transit Asia Research Network - ECPv6.10.1.1//NONSGML v1.0//EN
CALSCALE:GREGORIAN
METHOD:PUBLISH
X-ORIGINAL-URL:https://transit-asia.chss.nycu.edu.tw/tarn
X-WR-CALDESC:Events for Transit Asia Research Network
REFRESH-INTERVAL;VALUE=DURATION:PT1H
X-Robots-Tag:noindex
X-PUBLISHED-TTL:PT1H
BEGIN:VTIMEZONE
TZID:UTC
BEGIN:STANDARD
TZOFFSETFROM:+0000
TZOFFSETTO:+0000
TZNAME:UTC
DTSTART:20240101T000000
END:STANDARD
END:VTIMEZONE
BEGIN:VEVENT
DTSTART;TZID=UTC:20240801T080000
DTEND;TZID=UTC:20240804T200000
DTSTAMP:20260423T201728
CREATED:20240723T155150Z
LAST-MODIFIED:20240723T155348Z
UID:54640-1722499200-1722801600@transit-asia.chss.nycu.edu.tw
SUMMARY:TARN 2024 MEETING  Industry-led Operations of Capital in the 21st Century
DESCRIPTION:The “Chip War” (Chris Miller\, 2023)\, a battle for the world’s most critical technology and the new Nomos of the earth\, has emerged as the contemporary form of the Cold War. Chips\, as the material foundation and infrastructure\, perform a myriad of functions including algorithms\, computation\, design\, differentiation\, documentation\, memory\, execution\, and automation. As the core driver of the entire system\, chips have propelled all digital-related industries into the age of AI. \nDigital industries are not merely endorsed but are actively demanded by states. On the other hand\, industry has accelerated its own pace in capital operations\, reshaping the logistics and infrastructure of the production-supply chain\, and dramatically altering the global geopolitical landscape. As Heidegger articulated a century ago\, modern technology can be understood as the Gestell\, a gigantic frame and apparatus\, challenging\, gathering\, and ordering humanity to proceed as if destined\, extracting natural and human resources. However\, the digitalized automatic technology of the 21st century\, disguised as innovative development\, has quickened its pace and penetrated all aspects of our lives. \nThrough this workshop\, we intend to examine the profound changes and critical challenges in the complex geopolitical landscape of Asia and the wider world\, including conflicts\, inequities\, and the enduring impacts of colonial power relations. Our focus is on understanding these dynamics in a global context and investigating their contemporary significance. \nMORE
URL:https://transit-asia.chss.nycu.edu.tw/tarn/event/tarn-2024-meeting-industry-led-operations-of-capital-in-the-21st-century/
LOCATION:Asian Institute of Technology (AIT)\, Bangkok\, Thailand\, 58 Moo 9\, Km 42\, Paholyothin Highway\, Khlong Luang\, Pathumthani\, Bangkok\, Thailand
ATTACH;FMTTYPE=image/png:https://transit-asia.chss.nycu.edu.tw/tarn/wp-content/uploads/2024/02/Tarn-Meeting-cut-1-1.png
ORGANIZER;CN="Center on Gender and Forced Displacement (CGFD)":MAILTO:monira@ait.ac.th
END:VEVENT
END:VCALENDAR